BEGIN:VCALENDAR
VERSION:2.0
PRODID:-//wp-events-plugin.com//7.2.2.1//EN
TZID:Pacific/Auckland
X-WR-TIMEZONE:Pacific/Auckland
BEGIN:VEVENT
UID:250@timarubridgeclub.org.nz
DTSTART;TZID=Pacific/Auckland:20201210T191500
DTEND;TZID=Pacific/Auckland:20201210T224500
DTSTAMP:20200219T093912Z
URL:https://timarubridgeclub.org.nz/events/holiday-bridge-all-welcome-2020
 -12-10/
SUMMARY:Holiday Bridge - All Welcome!
DESCRIPTION:Holiday Bridge open to all members
LOCATION:Timaru Bridge Club\, 63 Wilson St\, Timaru\, New Zealand
X-APPLE-STRUCTURED-LOCATION;VALUE=URI;X-ADDRESS=63 Wilson St\, Timaru\, New
  Zealand;X-APPLE-RADIUS=100;X-TITLE=Timaru Bridge Club:geo:0,0
END:VEVENT
BEGIN:VTIMEZONE
TZID:Pacific/Auckland
X-LIC-LOCATION:Pacific/Auckland
BEGIN:DAYLIGHT
DTSTART:20200927T030000
TZOFFSETFROM:+1200
TZOFFSETTO:+1300
TZNAME:NZDT
END:DAYLIGHT
END:VTIMEZONE
END:VCALENDAR