BEGIN:VCALENDAR
VERSION:2.0
PRODID:-//wp-events-plugin.com//7.2.2.1//EN
TZID:Pacific/Auckland
X-WR-TIMEZONE:Pacific/Auckland
BEGIN:VEVENT
UID:2125@timarubridgeclub.org.nz
DTSTART;TZID=Pacific/Auckland:20250528T192000
DTEND;TZID=Pacific/Auckland:20250528T223000
DTSTAMP:20250404T012849Z
URL:https://timarubridgeclub.org.nz/events/bronze-division-championship-2-
 2025-05-28/
SUMMARY:Bronze Division - Championship
DESCRIPTION:Play begins at 7:00pm (seated by 6:50pm please) and finishes ab
 out 10:00pm.
END:VEVENT
BEGIN:VTIMEZONE
TZID:Pacific/Auckland
X-LIC-LOCATION:Pacific/Auckland
BEGIN:STANDARD
DTSTART:20250406T020000
TZOFFSETFROM:+1300
TZOFFSETTO:+1200
TZNAME:NZST
END:STANDARD
END:VTIMEZONE
END:VCALENDAR